BEGIN:VCALENDAR
VERSION:2.0
PRODID:-//Contratero//ES
CALSCALE:GREGORIAN
METHOD:PUBLISH
BEGIN:VEVENT
UID:PAS 02-2021@contratero.es
DTSTAMP:20260424T153631Z
DTSTART:20211202T235959
DTEND:20211203T005959
SUMMARY:Cierre: El objeto de este contrato es el servicio de asist
DESCRIPTION:El objeto de este contrato es el servicio de asistencia técnica y mantenimiento del programa APLINED\, propiedad de Apliman\, gestión y contabilidad e inventario\, para el Centro Asociado a la UNED en La...\\n\\nOrganismo: Dirección del Centro Asociado a la UNED en La Rioja\\n\\nVer en Contratero: https://contratero.es/contracts/PAS 02-2021
URL:https://contratero.es/contracts/PAS 02-2021
STATUS:CONFIRMED
BEGIN:VALARM
TRIGGER:-P1D
ACTION:DISPLAY
DESCRIPTION:Recordatorio: El objeto de este contrato es 
END:VALARM
END:VEVENT
END:VCALENDAR